BEGIN:VCALENDAR
VERSION:2.0
PRODID:spatie/icalendar-generator
DESCRIPTION:Händelser från Kungsbacka Senioruniversitet
X-WR-CALDESC:Händelser från Kungsbacka Senioruniversitet
REFRESH-INTERVAL;VALUE=DURATION:PT1440M
X-PUBLISHED-TTL:PT1440M
BEGIN:VTIMEZONE
TZID:Etc/GMT-1
BEGIN:STANDARD
DTSTART:20240321T090000Z
TZOFFSETFROM:+0100
TZOFFSETTO:+0100
END:STANDARD
END:VTIMEZONE
BEGIN:VTIMEZONE
TZID:UTC
BEGIN:STANDARD
DTSTART:20250725T080220Z
TZOFFSETFROM:+0000
TZOFFSETTO:+0000
END:STANDARD
END:VTIMEZONE
BEGIN:VEVENT
UID:5-4
DTSTAMP:20260421T080220Z
SUMMARY:Händelse utan rubrik
LOCATION:
ORGANIZER;CN=SvenUno Espersson:MAILTO:svenunoespersson@gmail.com
DTSTART;TZID=Etc/GMT-1:20241216T090000
DTEND;TZID=Etc/GMT-1:20241216T105400
X-ALT-DESC;FMTTYPE=TEXT/HTML:
CATEGORIES:General
URL;VALUE=URI:https://pukba.se/mc-events/handelse-utan-rubrik/?mc_id=5
END:VEVENT
END:VCALENDAR